BEGIN:VCALENDAR
VERSION:2.0
PRODID:-//Muskogee Chamber of Commerce - ECPv6.11.1//NONSGML v1.0//EN
CALSCALE:GREGORIAN
METHOD:PUBLISH
X-WR-CALNAME:Muskogee Chamber of Commerce
X-ORIGINAL-URL:https://muskogeechamber.org
X-WR-CALDESC:Events for Muskogee Chamber of Commerce
REFRESH-INTERVAL;VALUE=DURATION:PT1H
X-Robots-Tag:noindex
X-PUBLISHED-TTL:PT1H
BEGIN:VTIMEZONE
TZID:America/Chicago
BEGIN:DAYLIGHT
TZOFFSETFROM:-0600
TZOFFSETTO:-0500
TZNAME:CDT
DTSTART:20240310T080000
END:DAYLIGHT
BEGIN:STANDARD
TZOFFSETFROM:-0500
TZOFFSETTO:-0600
TZNAME:CST
DTSTART:20241103T070000
END:STANDARD
END:VTIMEZONE
BEGIN:VEVENT
DTSTART;TZID=America/Chicago:20240710T120000
DTEND;TZID=America/Chicago:20240710T123000
DTSTAMP:20260422T091039
CREATED:20240612T203822Z
LAST-MODIFIED:20240612T203822Z
UID:19776-1720612800-1720614600@muskogeechamber.org
SUMMARY:Ribbon Cutting: QuikTrip
DESCRIPTION:We are excited to share that we will be having a ribbon cutting and grand opening for the newly built Quiktrip in Muskogee! The new location is on the corner of York Street and the Shawnee Bypass. Quiktrip will also have the store team there to let us sample food and products. Hope to see you there! \n  \nWhen: Wednesday\, July 10th at 12:00 PM \nWhere: Quiktrip on the corner of York St\, & Shawnee Bypass
URL:https://muskogeechamber.org/calendar/ribbon-cutting-quiktrip/
END:VEVENT
BEGIN:VEVENT
DTSTART;VALUE=DATE:20240715
DTEND;VALUE=DATE:20240719
DTSTAMP:20260422T091039
CREATED:20210517T190551Z
LAST-MODIFIED:20240708T152846Z
UID:15856-1721001600-1721347199@muskogeechamber.org
SUMMARY:2024 Women's Leadership Conference "Week of Women"
DESCRIPTION:July 15th – 18th\, 2024\nMeet Our Speakers\nMonday via Zoom at 10am:\nChinh Doan\, KOTV – News On 6\nJoin us for an inspiring session with Chinh Doan\, a former refugee and foster child who defied all odds to become a prominent journalist and storyteller. Chinh’s journey from Vietnam to the United States\, overcoming language barriers\, and achieving her dreams will inspire you to work hard and be kind. \nAbout Chinh Doan: \n\nBorn in Vietnam\, fluent in Vietnamese\nFirst in her family to graduate college\nAnchor and reporter at KOTV – News On 6\, Tulsa’s #1 TV station\nRecipient of several journalism awards\nPassionate about telling stories of children\, veterans\, refugees\, and immigrants\n\nConnect with Chinh: \n\nEmail: chinh.doan@griffin.news\nSocial Media: Facebook\, Twitter\, Instagram\, TikTok\n\nTuesday via Zoom at 10am:\nDr. Lacey Nevel\, Free Spirit Chiropractic\nDr. Lacey Nevel\, a wellness visionary and co-owner of Free Spirit Chiropractic\, will share insights on holistic wellness and her journey in chiropractic care. Discover how she’s impacting lives through love\, connection\, and authenticity. \nAbout Dr. Lacey Nevel: \n\nCo-owner of Free Spirit Chiropractic\nFounder of The Start Up Lab for Chiropractors\nFounder of Free Spirit Social for Chiropractors\nPodcast host of “Free Your Frequency”\n\nConnect with Dr. Lacey: \n\nInstagram: @freespiritchiro\, @freespiritchiropractic\nPodcast: Free Your Frequency on Spotify\n\nWednesday via Zoom at 10am:\nCarleeta Nelson\, Arbonne International\nJoin us as Carleeta Nelson shares her incredible journey from poverty to success as a top leader in Arbonne International. Learn how she balanced a full-time nursing career while building a thriving business and empowering others along the way. \nAbout Carleeta Nelson: \n\nGraduated as valedictorian from Gracemont High School\nBachelor’s of Science in Nursing from UCO\nTop leader at Arbonne International\nBalances entrepreneurship with community involvement\n\nThursday In-Person Luncheon:\nAlba Weaver\, OG&E\nJoin us for an insightful luncheon with Alba Weaver\, the Director of Community Affairs and Economic Development at OG&E. Discover her impactful work in economic development\, community engagement\, and leadership in shaping the future of Oklahoma. \nAbout Alba Weaver: \n\nDirector at OG&E\, focusing on economic development\nRecognized leader in community and economic development\nActive contributor to various boards and organizations
URL:https://muskogeechamber.org/calendar/2023-womens-leadership-conference-week-of-women/
END:VEVENT
END:VCALENDAR