BEGIN:VCALENDAR
VERSION:2.0
PRODID:-//Muskogee Chamber of Commerce - ECPv6.11.1//NONSGML v1.0//EN
CALSCALE:GREGORIAN
METHOD:PUBLISH
X-ORIGINAL-URL:https://muskogeechamber.org
X-WR-CALDESC:Events for Muskogee Chamber of Commerce
REFRESH-INTERVAL;VALUE=DURATION:PT1H
X-Robots-Tag:noindex
X-PUBLISHED-TTL:PT1H
BEGIN:VTIMEZONE
TZID:America/Chicago
BEGIN:DAYLIGHT
TZOFFSETFROM:-0600
TZOFFSETTO:-0500
TZNAME:CDT
DTSTART:20240310T080000
END:DAYLIGHT
BEGIN:STANDARD
TZOFFSETFROM:-0500
TZOFFSETTO:-0600
TZNAME:CST
DTSTART:20241103T070000
END:STANDARD
END:VTIMEZONE
BEGIN:VEVENT
DTSTART;TZID=America/Chicago:20240610T110000
DTEND;TZID=America/Chicago:20240610T113000
DTSTAMP:20260422T072759
CREATED:20240530T171309Z
LAST-MODIFIED:20240530T171324Z
UID:19752-1718017200-1718019000@muskogeechamber.org
SUMMARY:Ribbon Cutting: Pristine Concrete and Excavation
DESCRIPTION:Help us welcome Pristine Concrete and Excavation to the Muskogee Chamber of Commerce! Pristine is a brand new business in the Muskogee area that specializes in concrete\, excavation\, French drainage\, retaining walls and land management. The Ribbon Cutting will be at the Chamber office and we hope to see you there! \n  \nWhen: Monday\, June 10th at 11:00 AM \nWhere: Muskogee Chamber of Commerce
URL:https://muskogeechamber.org/calendar/ribbon-cutting-pristine-concrete-and-excavation/
END:VEVENT
BEGIN:VEVENT
DTSTART;TZID=America/Chicago:20240612T110000
DTEND;TZID=America/Chicago:20240612T113000
DTSTAMP:20260422T072759
CREATED:20240530T171457Z
LAST-MODIFIED:20240530T171457Z
UID:19753-1718190000-1718191800@muskogeechamber.org
SUMMARY:Ribbon Cutting: Parachute
DESCRIPTION:Please join us in welcoming Parachute to the Muskogee Chamber of Commerce! Parachute is a brand new plasma donation center. Hope to see you there! \n  \nWhen: Wednesday\, June 12th at 11:00 AM \nWhere: 219 S 32nd St
URL:https://muskogeechamber.org/calendar/ribbon-cutting-parachute/
END:VEVENT
BEGIN:VEVENT
DTSTART;TZID=America/Chicago:20240613T140000
DTEND;TZID=America/Chicago:20240613T143000
DTSTAMP:20260422T072759
CREATED:20240530T171616Z
LAST-MODIFIED:20240530T171616Z
UID:19754-1718287200-1718289000@muskogeechamber.org
SUMMARY:Ribbon Cutting: TAYLOR'd Advanced Aesthetics
DESCRIPTION:We are welcoming TAYLOR’d Advanced Aesthetics to the Chamber of Commerce with a Ribbon Cutting! TAYLOR’d is a local medical spa that has an advanced team of skincare specialists that works in anti-aging\, acne\, and much more. Help us celebrate this local business! \nUPDATE: \nWhen: Thursday\, June 13th at 2:00 PM \nWhere: TAYLOR’d Advanced Aesthetics\, 2203 Chandler Road
URL:https://muskogeechamber.org/calendar/ribbon-cutting-taylord-advanced-aesthetics/
END:VEVENT
BEGIN:VEVENT
DTSTART;TZID=America/Chicago:20240620T100000
DTEND;TZID=America/Chicago:20240620T103000
DTSTAMP:20260422T072759
CREATED:20240530T171717Z
LAST-MODIFIED:20240530T171717Z
UID:19755-1718877600-1718879400@muskogeechamber.org
SUMMARY:Ribbon Cutting: Morning Song
DESCRIPTION:Please join us for a Ribbon Cutting to celebrate Morning Song Orchard & Nursery for joining the Chamber! Morning Song is a retail store with close to 200 botanicals\, powders\, and spices as well as over 40 herbal teas and accessories. Hope to see you there! \n  \nWhen: Thursday\, June 20th at 10:00 AM \nWhere: 1805 N York St. Suite D1
URL:https://muskogeechamber.org/calendar/ribbon-cutting-morning-song/
END:VEVENT
BEGIN:VEVENT
DTSTART;TZID=America/Chicago:20240621T110000
DTEND;TZID=America/Chicago:20240621T113000
DTSTAMP:20260422T072759
CREATED:20240612T203455Z
LAST-MODIFIED:20240612T203718Z
UID:19774-1718967600-1718969400@muskogeechamber.org
SUMMARY:Ribbon Cutting: Outlaw Motor Speedway
DESCRIPTION:Please join us in welcoming Outlaw Motor Speedway to the Muskogee Chamber of Commerce! Outlaw Motor Speedway is a racing speedway with a 3/8 mile dirt track that has weekly racing from May to October every year. We hope to see you there! \n  \nWhen: Friday\, June 21st at 11:00 AM \nWhere: 8100 Wainwright Rd in Oktaha
URL:https://muskogeechamber.org/calendar/ribbon-cutting-outlaw-motor-speedway/
END:VEVENT
BEGIN:VEVENT
DTSTART;TZID=America/Chicago:20240625T110000
DTEND;TZID=America/Chicago:20240625T113000
DTSTAMP:20260422T072759
CREATED:20240612T203654Z
LAST-MODIFIED:20240612T203654Z
UID:19775-1719313200-1719315000@muskogeechamber.org
SUMMARY:Ribbon Cutting: The Structure Guardian
DESCRIPTION:Help us welcome The Structure Guardian to the Muskogee Chamber of Commerce! The Structure Guardian is owned and operated by Ray Roberts who specializes in home\, mold\, phase\, and draw inspections. We will have the ribbon cutting at our office on \nTuesday\, June 25th at 11:00 AM. \nChamber Office: 310 W Broadway \nHope to see you there!
URL:https://muskogeechamber.org/calendar/ribbon-cutting-the-structure-guardian/
END:VEVENT
BEGIN:VEVENT
DTSTART;TZID=America/Chicago:20240626T073000
DTEND;TZID=America/Chicago:20240626T090000
DTSTAMP:20260422T072759
CREATED:20240528T184724Z
LAST-MODIFIED:20240528T184740Z
UID:19749-1719387000-1719392400@muskogeechamber.org
SUMMARY:Common Grounds & Ribbon Cutting at TTCU
DESCRIPTION:
URL:https://muskogeechamber.org/calendar/common-grounds-ribbon-cutting-at-ttcu/
LOCATION:TTCU Federal Credit Union\, 3801 W Okmulgee St\, Muskogee\, OK\, 74401\, United States
END:VEVENT
END:VCALENDAR