BEGIN:VCALENDAR
VERSION:2.0
PRODID:-//Muskogee Chamber of Commerce - ECPv6.11.1//NONSGML v1.0//EN
CALSCALE:GREGORIAN
METHOD:PUBLISH
X-WR-CALNAME:Muskogee Chamber of Commerce
X-ORIGINAL-URL:https://muskogeechamber.org
X-WR-CALDESC:Events for Muskogee Chamber of Commerce
REFRESH-INTERVAL;VALUE=DURATION:PT1H
X-Robots-Tag:noindex
X-PUBLISHED-TTL:PT1H
BEGIN:VTIMEZONE
TZID:America/Chicago
BEGIN:DAYLIGHT
TZOFFSETFROM:-0600
TZOFFSETTO:-0500
TZNAME:CDT
DTSTART:20240310T080000
END:DAYLIGHT
BEGIN:STANDARD
TZOFFSETFROM:-0500
TZOFFSETTO:-0600
TZNAME:CST
DTSTART:20241103T070000
END:STANDARD
BEGIN:DAYLIGHT
TZOFFSETFROM:-0600
TZOFFSETTO:-0500
TZNAME:CDT
DTSTART:20250309T080000
END:DAYLIGHT
BEGIN:STANDARD
TZOFFSETFROM:-0500
TZOFFSETTO:-0600
TZNAME:CST
DTSTART:20251102T070000
END:STANDARD
END:VTIMEZONE
BEGIN:VEVENT
DTSTART;TZID=America/Chicago:20241206T080000
DTEND;TZID=America/Chicago:20241206T170000
DTSTAMP:20260422T135504
CREATED:20240903T211554Z
LAST-MODIFIED:20240903T211554Z
UID:20031-1733472000-1733504400@muskogeechamber.org
SUMMARY:Leadership Muskogee Class 31 - Education Session
DESCRIPTION:Presented By: \n \n  \nSession Sponsored By:
URL:https://muskogeechamber.org/calendar/leadership-muskogee-class-31-education-session/
LOCATION:Indian Capital Technology Center\, 2403 N 41st St E \, Muskogee\, OK\, 74403\, United States
END:VEVENT
BEGIN:VEVENT
DTSTART;TZID=America/Chicago:20250109T080000
DTEND;TZID=America/Chicago:20250109T170000
DTSTAMP:20260422T135504
CREATED:20240903T211749Z
LAST-MODIFIED:20240903T211926Z
UID:20032-1736409600-1736442000@muskogeechamber.org
SUMMARY:Leadership Muskogee Class 31 - Health & Wellness Session
DESCRIPTION:Presented By: \n \n  \nSession Sponsored By:
URL:https://muskogeechamber.org/calendar/leadership-muskogee-class-31-health-wellness-session/
LOCATION:Green Country Beh. Health Med Services Building\, 110 W Martin Luther King St.\, Muskogee\, OK\, 74401\, United States
END:VEVENT
BEGIN:VEVENT
DTSTART;TZID=America/Chicago:20250115T083000
DTEND;TZID=America/Chicago:20250115T140000
DTSTAMP:20260422T135504
CREATED:20241028T141235Z
LAST-MODIFIED:20241028T141235Z
UID:20227-1736929800-1736949600@muskogeechamber.org
SUMMARY:Youth Leadership - Session 1
DESCRIPTION:
URL:https://muskogeechamber.org/calendar/youth-leadership-session-1/
LOCATION:Love Bottling Co.\, 3200 S 24th St W.\, Muskogee\, OK\, 74401\, United States
END:VEVENT
BEGIN:VEVENT
DTSTART;TZID=America/Chicago:20250130T113000
DTEND;TZID=America/Chicago:20250130T130000
DTSTAMP:20260422T135504
CREATED:20241210T173409Z
LAST-MODIFIED:20250127T201249Z
UID:20295-1738236600-1738242000@muskogeechamber.org
SUMMARY:State of Muskogee
DESCRIPTION:Join the Greater Muskogee Area Chamber of Commerce and Saint Francis Hospital Muskogee\, for the State of Muskogee. Hear from keynote speaker\, Larry Kelly\, Executive Director at Port of Port Arthur Texas\, and Mayor Patrick Cale. This event will take place over lunch on Thursday\, January 30\, 2025. Doors will open at 11:30 am\, and the presentation will conclude at 1:00 pm.
URL:https://muskogeechamber.org/calendar/state-of-muskogee-2/
LOCATION:Muskogee High School\, 3200 E Shawnee Rd\, Muskogee\, OK\, 74403\, United States
END:VEVENT
BEGIN:VEVENT
DTSTART;TZID=America/Chicago:20250205T113000
DTEND;TZID=America/Chicago:20250205T123000
DTSTAMP:20260422T135504
CREATED:20250128T185915Z
LAST-MODIFIED:20250128T185915Z
UID:20466-1738755000-1738758600@muskogeechamber.org
SUMMARY:Ambassador Committee Lunch - Golden Corral
DESCRIPTION:
URL:https://muskogeechamber.org/calendar/ambassador-committee-lunch-golden-corral/
LOCATION:Golden Corral\, 423 W. Shawnee\, Muskogee\, OK\, 74401\, United States
END:VEVENT
BEGIN:VEVENT
DTSTART;TZID=America/Chicago:20250212T083000
DTEND;TZID=America/Chicago:20250212T140000
DTSTAMP:20260422T135504
CREATED:20241028T141330Z
LAST-MODIFIED:20241028T141330Z
UID:20229-1739349000-1739368800@muskogeechamber.org
SUMMARY:Youth Leadership - Session 2
DESCRIPTION:
URL:https://muskogeechamber.org/calendar/youth-leadership-session-2/
LOCATION:OK
END:VEVENT
BEGIN:VEVENT
DTSTART;TZID=America/Chicago:20250213T080000
DTEND;TZID=America/Chicago:20250213T170000
DTSTAMP:20260422T135504
CREATED:20240903T212037Z
LAST-MODIFIED:20240903T212037Z
UID:20034-1739433600-1739466000@muskogeechamber.org
SUMMARY:Leadership Muskogee Class 31 - Non-Profit Session
DESCRIPTION:Presented By: \n \n  \n 
URL:https://muskogeechamber.org/calendar/leadership-muskogee-class-31-non-profit-session/
LOCATION:Green Country Beh. Health Med Services Building\, 110 W Martin Luther King St.\, Muskogee\, OK\, 74401\, United States
END:VEVENT
BEGIN:VEVENT
DTSTART;TZID=America/Chicago:20250221T113000
DTEND;TZID=America/Chicago:20250221T123000
DTSTAMP:20260422T135504
CREATED:20250117T171433Z
LAST-MODIFIED:20260116T204439Z
UID:20412-1740137400-1740141000@muskogeechamber.org
SUMMARY:Muskogee Regional Livestock Picnic Lunch
DESCRIPTION:
URL:https://muskogeechamber.org/calendar/muskogee-regional-livestock-picnic-lunch/
LOCATION:Hatbox Event Center\, 640 S 40th St\, Muskogee\, OK\, 74401
END:VEVENT
BEGIN:VEVENT
DTSTART;TZID=America/Chicago:20250226T113000
DTEND;TZID=America/Chicago:20250226T130000
DTSTAMP:20260422T135504
CREATED:20250102T210828Z
LAST-MODIFIED:20250102T210828Z
UID:20341-1740569400-1740574800@muskogeechamber.org
SUMMARY:2025 Annual Meeting & Inauguration
DESCRIPTION: 
URL:https://muskogeechamber.org/calendar/2025-annual-meeting-inauguration/
LOCATION:Martin Luther King Center\, 300 MLK Street\, Muskogee\, OK\, 74401
END:VEVENT
BEGIN:VEVENT
DTSTART;TZID=America/Chicago:20250228T083000
DTEND;TZID=America/Chicago:20250228T093000
DTSTAMP:20260422T135504
CREATED:20250214T170107Z
LAST-MODIFIED:20250214T170107Z
UID:20573-1740731400-1740735000@muskogeechamber.org
SUMMARY:Paul Revere Legislative Breakfast
DESCRIPTION:Presented by: \n \n  \nThis legislative breakfast is held to give Chamber members an opportunity to hear about current issues and receive updates on policy items that can affect business. Please RSVP to Angela@muskogeechamber.org.
URL:https://muskogeechamber.org/calendar/paul-revere-legislative-breakfast/
LOCATION:Greater Muskogee Area Chamber of Commerce\, 310 W. Broadway\, Muskogee\, OK\, 74401\, United States
END:VEVENT
BEGIN:VEVENT
DTSTART;TZID=America/Chicago:20250305T113000
DTEND;TZID=America/Chicago:20250305T123000
DTSTAMP:20260422T135504
CREATED:20250304T155819Z
LAST-MODIFIED:20250304T155819Z
UID:20682-1741174200-1741177800@muskogeechamber.org
SUMMARY:Ambassador Committee Meeting
DESCRIPTION:
URL:https://muskogeechamber.org/calendar/ambassador-committee-meeting-2/
LOCATION:Gino’s Italian Ristorante\, 139 W Shawnee\, Muskogee\, OK\, 74401\, United States
END:VEVENT
BEGIN:VEVENT
DTSTART;TZID=America/Chicago:20250306T160000
DTEND;TZID=America/Chicago:20250306T163000
DTSTAMP:20260422T135504
CREATED:20250205T203858Z
LAST-MODIFIED:20250214T174639Z
UID:20506-1741276800-1741278600@muskogeechamber.org
SUMMARY:Ribbon Cutting: Lucht Insurance Service
DESCRIPTION:Join us to celebrate Lucht Insurance Service with a Ribbon Cutting!
URL:https://muskogeechamber.org/calendar/ribbon-cutting-lucht-insurance-service/
LOCATION:101 W Broadway\, 101 W Broadway St\, Muskogee\, OK\, 74401\, United States
END:VEVENT
BEGIN:VEVENT
DTSTART;TZID=America/Chicago:20250312T083000
DTEND;TZID=America/Chicago:20250312T140000
DTSTAMP:20260422T135504
CREATED:20241028T141417Z
LAST-MODIFIED:20241028T141417Z
UID:20230-1741768200-1741788000@muskogeechamber.org
SUMMARY:Youth Leadership - Session 3
DESCRIPTION:
URL:https://muskogeechamber.org/calendar/youth-leadership-session-3/
LOCATION:OK
END:VEVENT
BEGIN:VEVENT
DTSTART;TZID=America/Chicago:20250312T153000
DTEND;TZID=America/Chicago:20250312T160000
DTSTAMP:20260422T135504
CREATED:20250224T214109Z
LAST-MODIFIED:20250224T214109Z
UID:20658-1741793400-1741795200@muskogeechamber.org
SUMMARY:Ribbon Cutting: Work Ready Oklahoma
DESCRIPTION:Join us to celebrate Work Ready Oklahoma with a Ribbon Cutting for their new location!
URL:https://muskogeechamber.org/calendar/ribbon-cutting-work-ready-oklahoma/
LOCATION:319 Denison St\, 319 Denison St.\, Muskogee\, OK\, 74401\, United States
END:VEVENT
BEGIN:VEVENT
DTSTART;TZID=America/Chicago:20250313T103000
DTEND;TZID=America/Chicago:20250313T110000
DTSTAMP:20260422T135504
CREATED:20250218T185650Z
LAST-MODIFIED:20250218T185740Z
UID:20610-1741861800-1741863600@muskogeechamber.org
SUMMARY:Ribbon Cutting: The Connection Companies
DESCRIPTION:Join us for a Ribbon Cutting celebrating new member\, The Connection Companies. Tiffany Egdorf is the Owner/CEO of The Connection Companies and provides consulting services to non-profit organizations. We hope to see you there!
URL:https://muskogeechamber.org/calendar/ribbon-cutting-the-connection-companies/
LOCATION:The Greater Muskogee Area Chamber of Commerce\, 310 W. Broadway\, Muskogee\, OK\, 74401\, United States
END:VEVENT
BEGIN:VEVENT
DTSTART;TZID=America/Chicago:20250326T090000
DTEND;TZID=America/Chicago:20250326T140000
DTSTAMP:20260422T135504
CREATED:20250213T151000Z
LAST-MODIFIED:20250214T154906Z
UID:20549-1742979600-1742997600@muskogeechamber.org
SUMMARY:Muskogee Day at the Capitol
DESCRIPTION:We invite you to come spend the day with us at the Oklahoma State Capital talking to our elected officials about the issues that are affecting the Muskogee business community.
URL:https://muskogeechamber.org/calendar/muskogee-day-at-the-capitol-2025/
LOCATION:Oklahoma State Capitol\, 2300 Lincoln Blvd.\, Oklahoma City\, OK\, 73105\, United States
END:VEVENT
BEGIN:VEVENT
DTSTART;TZID=America/Chicago:20250326T090000
DTEND;TZID=America/Chicago:20250327T130000
DTSTAMP:20260422T135504
CREATED:20250214T170748Z
LAST-MODIFIED:20250214T171657Z
UID:20580-1742979600-1743080400@muskogeechamber.org
SUMMARY:Leadership Muskogee Class 31 - State Government Session
DESCRIPTION:Presented by:
URL:https://muskogeechamber.org/calendar/leadership-muskogee-class-31-state-government-session/
LOCATION:Oklahoma State Capitol\, 2300 Lincoln Blvd.\, Oklahoma City\, OK\, 73105\, United States
END:VEVENT
BEGIN:VEVENT
DTSTART;TZID=America/Chicago:20250328T083000
DTEND;TZID=America/Chicago:20250328T093000
DTSTAMP:20260422T135504
CREATED:20250214T170305Z
LAST-MODIFIED:20250214T170305Z
UID:20577-1743150600-1743154200@muskogeechamber.org
SUMMARY:
DESCRIPTION:Presented by: \n  \n  \nThis legislative breakfast is held to give Chamber members an opportunity to hear about current issues and receive updates on policy items that can affect business. Please RSVP to Angela@muskogeechamber.org.
URL:https://muskogeechamber.org/calendar/20577/
LOCATION:Greater Muskogee Area Chamber of Commerce\, 310 W. Broadway\, Muskogee\, OK\, 74401\, United States
END:VEVENT
BEGIN:VEVENT
DTSTART;TZID=America/Chicago:20250403T160000
DTEND;TZID=America/Chicago:20250403T163000
DTSTAMP:20260422T135504
CREATED:20250304T155553Z
LAST-MODIFIED:20250304T155553Z
UID:20680-1743696000-1743697800@muskogeechamber.org
SUMMARY:Ribbon Cutting: Cornerstone Caregiving
DESCRIPTION:Join us in celebrating new member\, Cornerstone Caregiving with a Ribbon Cutting! Cornerstone Caregiving offers personalized in-home care services to support seniors in maintaining their independence with services that includes personal care\, transportation\, health and nutrition support and more. We hope to see you there!
URL:https://muskogeechamber.org/calendar/ribbon-cutting-cornerstone-caregiving/
LOCATION:330 N 4th St\, Ste. 102\, 330 N 4th St\, Ste. 102\, Muskogee\, OK\, 74401\, United States
END:VEVENT
BEGIN:VEVENT
DTSTART;TZID=America/Chicago:20250408T120000
DTEND;TZID=America/Chicago:20250408T123000
DTSTAMP:20260422T135504
CREATED:20250317T174922Z
LAST-MODIFIED:20250317T174922Z
UID:20707-1744113600-1744115400@muskogeechamber.org
SUMMARY:Ribbon Cutting: Papp's
DESCRIPTION:Join us for a Ribbon Cutting to celebrate Papp’s\, a new local food truck who specializes in all things waffles! We will be across the street from the Chamber at the Broadway Green where the food truck will be.
URL:https://muskogeechamber.org/calendar/ribbon-cutting-papps/
LOCATION:Broadway Green\, 310 W. Broadway\, Muskogee\, OK\, 74401\, United States
END:VEVENT
BEGIN:VEVENT
DTSTART;TZID=America/Chicago:20250409T113000
DTEND;TZID=America/Chicago:20250409T123000
DTSTAMP:20260422T135504
CREATED:20250401T151340Z
LAST-MODIFIED:20250401T151531Z
UID:20731-1744198200-1744201800@muskogeechamber.org
SUMMARY:Ambassador Committee Lunch: Charlies Chicken West
DESCRIPTION:
URL:https://muskogeechamber.org/calendar/ambassador-committee-lunch-charlies-chicken-west/
LOCATION:Charlies Chicken West\, 3325 W Okmukgee\, Muskogee\, OK\, 74401\, United States
END:VEVENT
BEGIN:VEVENT
DTSTART;TZID=America/Chicago:20250410T080000
DTEND;TZID=America/Chicago:20250410T170000
DTSTAMP:20260422T135504
CREATED:20240903T212307Z
LAST-MODIFIED:20240903T212307Z
UID:20035-1744272000-1744304400@muskogeechamber.org
SUMMARY:Leadership Muskogee Class 31 - City/County Government Session
DESCRIPTION:Presented By: \n \nSession Sponsored By: \n 
URL:https://muskogeechamber.org/calendar/leadership-muskogee-class-31-city-county-government-session/
LOCATION:Green Country Beh. Health Med Services Building\, 110 W Martin Luther King St.\, Muskogee\, OK\, 74401\, United States
END:VEVENT
BEGIN:VEVENT
DTSTART;TZID=America/Chicago:20250411T173000
DTEND;TZID=America/Chicago:20250411T180000
DTSTAMP:20260422T135504
CREATED:20250401T151458Z
LAST-MODIFIED:20250401T151458Z
UID:20733-1744392600-1744394400@muskogeechamber.org
SUMMARY:Ribbon Cutting: Muskogee Exchange Club 40th Anniversary
DESCRIPTION:We hope you will join us to help Exchange Club of Muskogee celebrate their 40 year Anniversary the Friday before Annual Chili Cookoff! This Ribbon Cutting will be after hours\, but we would love to see you there to help  Exchange Club celebrate 40 years in Muskogee.
URL:https://muskogeechamber.org/calendar/ribbon-cutting-muskogee-exchange-club-40th-anniversary/
LOCATION:Hatbox Field\, 4000 Border Ave\, Muskogee\, OK\, 74401\, United States
END:VEVENT
BEGIN:VEVENT
DTSTART;TZID=America/Chicago:20250416T083000
DTEND;TZID=America/Chicago:20250416T140000
DTSTAMP:20260422T135504
CREATED:20241028T141517Z
LAST-MODIFIED:20241028T141517Z
UID:20231-1744792200-1744812000@muskogeechamber.org
SUMMARY:Youth Leadership - Session 4
DESCRIPTION:
URL:https://muskogeechamber.org/calendar/youth-leadership-session-4/
LOCATION:Green Country Beh. Health Med Services Building\, 110 W Martin Luther King St.\, Muskogee\, OK\, 74401\, United States
END:VEVENT
BEGIN:VEVENT
DTSTART;TZID=America/Chicago:20250417T110000
DTEND;TZID=America/Chicago:20250417T113000
DTSTAMP:20260422T135504
CREATED:20250401T151658Z
LAST-MODIFIED:20250401T151658Z
UID:20734-1744887600-1744889400@muskogeechamber.org
SUMMARY:Ribbon Cutting: Parks & Rec - Children's Garden Sculpture
DESCRIPTION:Join us for a Ribbon Cutting to celebrate Muskogee Parks & Recreations unveiling of an infinity sculpture donated by the Muskogee Garden Club. The sculpture will be in The Papillion\, and located at the Children’s Garden in Honor Heights Park. Hope to see you there!
URL:https://muskogeechamber.org/calendar/ribbon-cutting-parks-rec-childrens-garden-sculpture/
LOCATION:The Papilion in Honor Heights Park\, 1400 Honor Heights Drive\, Muskogee\, OK\, 74401\, United States
END:VEVENT
BEGIN:VEVENT
DTSTART;TZID=America/Chicago:20250417T173000
DTEND;TZID=America/Chicago:20250417T203000
DTSTAMP:20260422T135504
CREATED:20250304T190800Z
LAST-MODIFIED:20250407T163431Z
UID:20673-1744911000-1744921800@muskogeechamber.org
SUMMARY:Chamber Banquet
DESCRIPTION:Please join us for the 101st Annual Chamber Banquet\, presented by Utica Park Clinic. Enjoy networking\, dinner\, games and live music. The event will be held at Hatbox Event Center and the doors will open at 5:30 pm.
URL:https://muskogeechamber.org/calendar/chamber-banquet/
LOCATION:Hatbox Event Center\, 640 S 40th St\, Muskogee\, OK\, 74401
END:VEVENT
BEGIN:VEVENT
DTSTART;TZID=America/Chicago:20250418T150000
DTEND;TZID=America/Chicago:20250418T153000
DTSTAMP:20260422T135504
CREATED:20250401T151750Z
LAST-MODIFIED:20250401T151750Z
UID:20735-1744988400-1744990200@muskogeechamber.org
SUMMARY:Ribbon Cutting: Honor Heights Park Sculpture
DESCRIPTION:Join us for a Ribbon Cutting with Muskogee Parks and Recreation in Honor Heights Park to unveil their newest sculpture\, donated by Dr. Robert Fox of geese taking flight. .  It is located in the Summer Garden which is located across the street from the Kirschner Fountain.  This is the rock fountain in the middle of the small pond in the north end of the park.  Everyone will park in the C. Clay Harrell Arboretum parking lot and walk over to the garden area where the sculpture is located.  There will be a small reception in the Papillion Garden Room after the Ribbon Cutting if you would like to attend.
URL:https://muskogeechamber.org/calendar/ribbon-cutting-honor-heights-park-sculpture/
LOCATION:Honor Heights Park\, 1400 Honor Heights Drive\, Muskogee\, OK\, 74401\, United States
END:VEVENT
BEGIN:VEVENT
DTSTART;TZID=America/Chicago:20250421T160000
DTEND;TZID=America/Chicago:20250421T163000
DTSTAMP:20260422T135504
CREATED:20250401T152003Z
LAST-MODIFIED:20250401T152003Z
UID:20736-1745251200-1745253000@muskogeechamber.org
SUMMARY:Ribbon Cutting: 11:11 Hair Studio\, LLC
DESCRIPTION:
URL:https://muskogeechamber.org/calendar/ribbon-cutting-1111-hair-studio-llc/
LOCATION:11:11 Hair Studio\, LLC\, 821 N York\, Ste. B\, Muskogee\, OK\, 74403\, United States
END:VEVENT
BEGIN:VEVENT
DTSTART;TZID=America/Chicago:20250425T083000
DTEND;TZID=America/Chicago:20250425T093000
DTSTAMP:20260422T135504
CREATED:20250422T140959Z
LAST-MODIFIED:20250422T140959Z
UID:20841-1745569800-1745573400@muskogeechamber.org
SUMMARY:Paul Revere Legislative Update
DESCRIPTION:This legislative update gives Chamber members an opportunity to hear about current issues and receive updates on policy items that can affect business. \nRSVP Here
URL:https://muskogeechamber.org/calendar/paul-revere-legislative-update/
LOCATION:Oklahoma Farm Bureau\, 28 E Shawnee\, Muskogee\, OK\, 74403\, United States
END:VEVENT
BEGIN:VEVENT
DTSTART;TZID=America/Chicago:20250501T160000
DTEND;TZID=America/Chicago:20250501T163000
DTSTAMP:20260422T135504
CREATED:20250421T142720Z
LAST-MODIFIED:20250421T142720Z
UID:20819-1746115200-1746117000@muskogeechamber.org
SUMMARY:Ribbon Cutting: Boards and Bites Charcuterie and Catering Company
DESCRIPTION:Join us to celebrate Boards and Bites Charcuterie and Catering Company with a Ribbon Cutting! Boards and Bites specializes in crafting and selling beautifully arranged food art on boards\, individual boxes and even large tables\, no occasion is too small or too big. We will see you there!\n\nWhen: Thursday\, May 1st at 4:00PM \nWhere: Muskogee Chamber of Commerce\, 310 W Broadway
URL:https://muskogeechamber.org/calendar/ribbon-cutting-boards-and-bites-charcuterie-and-catering-company/
LOCATION:The Greater Muskogee Area Chamber of Commerce\, 310 W. Broadway\, Muskogee\, OK\, 74401\, United States
END:VEVENT
END:VCALENDAR