BEGIN:VCALENDAR
VERSION:2.0
PRODID:-//Muskogee Chamber of Commerce - ECPv6.11.1//NONSGML v1.0//EN
CALSCALE:GREGORIAN
METHOD:PUBLISH
X-WR-CALNAME:Muskogee Chamber of Commerce
X-ORIGINAL-URL:https://muskogeechamber.org
X-WR-CALDESC:Events for Muskogee Chamber of Commerce
REFRESH-INTERVAL;VALUE=DURATION:PT1H
X-Robots-Tag:noindex
X-PUBLISHED-TTL:PT1H
BEGIN:VTIMEZONE
TZID:America/Chicago
BEGIN:DAYLIGHT
TZOFFSETFROM:-0600
TZOFFSETTO:-0500
TZNAME:CDT
DTSTART:20230312T080000
END:DAYLIGHT
BEGIN:STANDARD
TZOFFSETFROM:-0500
TZOFFSETTO:-0600
TZNAME:CST
DTSTART:20231105T070000
END:STANDARD
BEGIN:DAYLIGHT
TZOFFSETFROM:-0600
TZOFFSETTO:-0500
TZNAME:CDT
DTSTART:20240310T080000
END:DAYLIGHT
BEGIN:STANDARD
TZOFFSETFROM:-0500
TZOFFSETTO:-0600
TZNAME:CST
DTSTART:20241103T070000
END:STANDARD
END:VTIMEZONE
BEGIN:VEVENT
DTSTART;TZID=America/Chicago:20240103T113000
DTEND;TZID=America/Chicago:20240103T123000
DTSTAMP:20260422T064733
CREATED:20231227T211052Z
LAST-MODIFIED:20231227T211052Z
UID:18923-1704281400-1704285000@muskogeechamber.org
SUMMARY:Ambassador Committee Meeting
DESCRIPTION:
URL:https://muskogeechamber.org/calendar/ambassador-committee-meeting/
LOCATION:Mahylon’s\, 3301 Chandler Rd\, Muskogee\, OK\, 74403
END:VEVENT
BEGIN:VEVENT
DTSTART;VALUE=DATE:20240101
DTEND;VALUE=DATE:20240102
DTSTAMP:20260422T064733
CREATED:20231108T211502Z
LAST-MODIFIED:20231108T211502Z
UID:18815-1704067200-1704153599@muskogeechamber.org
SUMMARY:Office Closed: New Years Day
DESCRIPTION:
URL:https://muskogeechamber.org/calendar/office-closed-new-years-day/
END:VEVENT
BEGIN:VEVENT
DTSTART;VALUE=DATE:20231225
DTEND;VALUE=DATE:20231227
DTSTAMP:20260422T064733
CREATED:20231108T211431Z
LAST-MODIFIED:20231108T211431Z
UID:18814-1703462400-1703635199@muskogeechamber.org
SUMMARY:Office Closed: Christmas
DESCRIPTION:
URL:https://muskogeechamber.org/calendar/office-closed-christmas/
END:VEVENT
BEGIN:VEVENT
DTSTART;TZID=America/Chicago:20231208T160000
DTEND;TZID=America/Chicago:20231208T163000
DTSTAMP:20260422T064733
CREATED:20231108T210004Z
LAST-MODIFIED:20231108T210004Z
UID:18810-1702051200-1702053000@muskogeechamber.org
SUMMARY:Ribbon Cutting: Muskogee Powersports
DESCRIPTION:Please join us to celebrate & welcome Muskogee Powersports to Muskogee! This dealership has been serving Muskogee since the mid-80’s\, but they have recently changed ownership\, and have upgraded their building as well! \nWhen: Friday\, December 8\, 2023 from 4:00 PM – 4:30 PM \nWhere: Muskogee Powersports – 600 W Peak Blvd  Muskogee\, OK 74401
URL:https://muskogeechamber.org/calendar/ribbon-cutting-muskogee-powersports/
LOCATION:Muskogee Powersports\, 600 W Peak Blvd\, Muskogee\, OK\, 74401\, United States
END:VEVENT
BEGIN:VEVENT
DTSTART;TZID=America/Chicago:20231204T110000
DTEND;TZID=America/Chicago:20231204T233000
DTSTAMP:20260422T064733
CREATED:20231204T152245Z
LAST-MODIFIED:20231204T154534Z
UID:18909-1701687600-1701732600@muskogeechamber.org
SUMMARY:Ribbon Cutting: The Roccadawn LLC
DESCRIPTION:Please join us to celebrate and welcome The Roccadawn LLC to Muskogee! Previously known as the Graham-Carroll House\, The Roccadawn is a refuge for travelers looking to experience the historic charm of Muskogee in an English Tudor manor. Currently open to guests booking through Airbnb and Vrbo\, the Roccadawn offers accommodations that are both unique and cozy. \nWhen: Tuesday\, December 4 from 11:00 AM – 11:30 AM \nWhere: The Roccadawn – 516 N 16th St  Muskogee\, OK 74401 \nRibbon cuttings are open to the public\, so invite your co-workers and friends to come celebrate with this new business
URL:https://muskogeechamber.org/calendar/ribbon-cutting-the-roccadawn-llc/
END:VEVENT
BEGIN:VEVENT
DTSTART;TZID=America/Chicago:20231130T113000
DTEND;TZID=America/Chicago:20231130T130000
DTSTAMP:20260422T064733
CREATED:20231026T211052Z
LAST-MODIFIED:20231127T212724Z
UID:18769-1701343800-1701349200@muskogeechamber.org
SUMMARY:State of Muskogee
DESCRIPTION:Join the Greater Muskogee Area Chamber of Commerce and Saint Francis Hospital Muskogee\, for the 2023 State of Muskogee. Hear from keynote speaker Mick Cornett\, former Oklahoma City Mayor and Mayor Marlon Coleman. This event will take place over lunch on Thursday\, November 30th. Doors will open at 11:30 am and the presentation will conclude at 1 pm.
URL:https://muskogeechamber.org/calendar/state-of-muskogee/
LOCATION:Muskogee High School\, 3200 E Shawnee Rd\, Muskogee\, OK\, 74403\, United States
END:VEVENT
BEGIN:VEVENT
DTSTART;VALUE=DATE:20231123
DTEND;VALUE=DATE:20231125
DTSTAMP:20260422T064733
CREATED:20231108T210712Z
LAST-MODIFIED:20231108T210712Z
UID:18813-1700697600-1700870399@muskogeechamber.org
SUMMARY:Office Closed: Thanksgiving
DESCRIPTION:
URL:https://muskogeechamber.org/calendar/office-closed-thanksgiving/
LOCATION:Greater Muskogee Area Chamber of Commerce\, 310 W. Broadway\, Muskogee\, OK\, 74401\, United States
END:VEVENT
BEGIN:VEVENT
DTSTART;TZID=America/Chicago:20231121T103000
DTEND;TZID=America/Chicago:20231121T110000
DTSTAMP:20260422T064733
CREATED:20231108T205401Z
LAST-MODIFIED:20231108T205649Z
UID:18807-1700562600-1700564400@muskogeechamber.org
SUMMARY:Ribbon Cutting: CARDS Holdings\, Inc.
DESCRIPTION:Please join us for a ribbon cutting to celebrate and welcome CARDS Holdings\, Inc to Muskogee. CARDS Holdings recently acquired Whittinghill Disposal Service. \nCARDS Recycling is operated with our customers in mind. The CARDS mission is based on the simple principle that the customer’s complete satisfaction is of the utmost importance. CARDS Recycling offers residential\, commercial\, roll off\, recycling and disposal services for homes\, businesses and contractors alike. We pride ourselves on being a Local Company who takes care of the Local Customers! \nWhen: Tuesday\, November 21\, 2023 from 10:00 AM – 11:00 AM\nWhere: CARDS Holdings\, Inc. – 6000 S Cherokee St Muskogee\, OK 74403
URL:https://muskogeechamber.org/calendar/ribbon-cutting-cards-holdings-inc/
LOCATION:6000 S Cherokee St\, 6000 S Cherokee\, Muskogee\, OK\, 74403\, United States
END:VEVENT
BEGIN:VEVENT
DTSTART;TZID=America/Chicago:20231116T103000
DTEND;TZID=America/Chicago:20231116T110000
DTSTAMP:20260422T064733
CREATED:20231031T180932Z
LAST-MODIFIED:20231031T180932Z
UID:18781-1700130600-1700132400@muskogeechamber.org
SUMMARY:Ribbon Cutting: Whataburger
DESCRIPTION:  \n \nPlease join us for a ribbon cutting to celebrate and welcome Whataburger to Muskogee! Serving customers since 1950 and growing to over 900 locations across the United States\, Muskogee has their first Whataburger. Located on the west end of the Shawnee Bypass\, this location will be a welcome stop for guests traveling US Hwy 69\, staying in our hotels\, and visiting our businesses/attractions. \nWhen: Thursday\, November 16\, 2023 from 10:30 AM – 11:00 AM \nWhere: Whataburger – 3113 W. Shawnee Bypass\, Muskogee 74401 \nThe ribbon cutting is open to the public\, so invite your co-workers and friends to come celebrate with this new local business.
URL:https://muskogeechamber.org/calendar/ribbon-cutting-whataburger/
END:VEVENT
BEGIN:VEVENT
DTSTART;TZID=America/Chicago:20231109T083000
DTEND;TZID=America/Chicago:20231109T150000
DTSTAMP:20260422T064733
CREATED:20231108T210609Z
LAST-MODIFIED:20231108T210609Z
UID:18812-1699518600-1699542000@muskogeechamber.org
SUMMARY:Leadership Muskogee: Class 30
DESCRIPTION:
URL:https://muskogeechamber.org/calendar/leadership-muskogee-class-30/
END:VEVENT
BEGIN:VEVENT
DTSTART;TZID=America/Chicago:20231102T083000
DTEND;TZID=America/Chicago:20231102T170000
DTSTAMP:20260422T064733
CREATED:20230606T204024Z
LAST-MODIFIED:20230606T204041Z
UID:18448-1698913800-1698944400@muskogeechamber.org
SUMMARY:Leadership Muskogee 2.0 Graduation
DESCRIPTION:
URL:https://muskogeechamber.org/calendar/leadership-muskogee-2-0-graduation/
LOCATION:Greater Muskogee Area Chamber of Commerce\, 310 W. Broadway\, Muskogee\, OK\, 74401\, United States
CATEGORIES:Registered Events
END:VEVENT
BEGIN:VEVENT
DTSTART;TZID=America/Chicago:20231101T120000
DTEND;TZID=America/Chicago:20231101T130000
DTSTAMP:20260422T064733
CREATED:20170926T201601Z
LAST-MODIFIED:20170926T201601Z
UID:16614-1698840000-1698843600@muskogeechamber.org
SUMMARY:Ambassador's Committee Meeting
DESCRIPTION:This committee works to ensure our members have the full support of the Chamber and are provided opportunities such as ribbon cuttings\, open house\, and ground breaking events. The committee meets the first Wednesday of every month over lunch at a Chamber Member restaurant. \n  \nLocation changes month to month\, contact Amanda Johnson for this months host.
URL:https://muskogeechamber.org/calendar/7884-2023-11-01/
CATEGORIES:Open Meeting
END:VEVENT
BEGIN:VEVENT
DTSTART;TZID=America/Chicago:20231031T093000
DTEND;TZID=America/Chicago:20231031T100000
DTSTAMP:20260422T064733
CREATED:20231018T203453Z
LAST-MODIFIED:20231018T203544Z
UID:18760-1698744600-1698746400@muskogeechamber.org
SUMMARY:Ribbon Cutting: Kids' Space Muskogee County Child Advocacy Center
DESCRIPTION:Join us for a ribbon cutting with Kids Space as they celebrate the completion of their new façade and facility improvements. Kids’ Space responds to reports of child abuse as part of a multi-disciplinary team of experts. Together\, they investigate alleged abuse\, conduct forensic interviews\, provide family advocacy\, reduce trauma and identify resources so that children and families may begin the healing process. \nWhen: Tuesday\, October 31\, 2023 from 9:30 AM – 10:00 AM \nWhere: Kids Space – 400 Court Street\, Muskogee 74401 \nThe ribbon cutting is open to the public\, so invite your co-workers and friends to come celebrate with this local team.
URL:https://muskogeechamber.org/calendar/18760/
END:VEVENT
BEGIN:VEVENT
DTSTART;TZID=America/Chicago:20231030T080000
DTEND;TZID=America/Chicago:20231030T080000
DTSTAMP:20260422T064733
CREATED:20210121T211113Z
LAST-MODIFIED:20210121T211113Z
UID:16690-1698652800-1698652800@muskogeechamber.org
SUMMARY:Monday Morning Memo
DESCRIPTION:Newsletter sent out each out to all members each Monday Morning. This email informs our members on what is going on at the chamber\, info from the SBA\, state chamber\, and local news. \n\nAre you a member and are not receiving this email? Email info@muskogeechamber.org
URL:https://muskogeechamber.org/calendar/monday-morning-memo-2023-10-30/
END:VEVENT
BEGIN:VEVENT
DTSTART;TZID=America/Chicago:20231027T093000
DTEND;TZID=America/Chicago:20231027T100000
DTSTAMP:20260422T064733
CREATED:20231019T144254Z
LAST-MODIFIED:20231019T144254Z
UID:18762-1698399000-1698400800@muskogeechamber.org
SUMMARY:Ribbon Cutting: Integrity Pathways
DESCRIPTION:Please join us as we welcome Integrity Pathways to our chamber. They are celebrating 20 years of serving the greater Muskogee area with mental & behavioral health. Their mission is to provide quality mental health\, behavioral health\, substance services\, and other ancillary services in order to promote emotional\, psychological\, and physical health and well-being for individuals and families. \nWhen: Friday\, October 27\, 2023 from 9:30 AM – 10:00 AM \nWhere: Integrity Pathways office – 814 W. Okmulgee\, Muskogee 74401 \nThe ribbon cutting is open to the public\, so invite your co-workers and friends to come celebrate with this local team.
URL:https://muskogeechamber.org/calendar/ribbon-cutting-integrity-pathways/
END:VEVENT
BEGIN:VEVENT
DTSTART;TZID=America/Chicago:20231025T103000
DTEND;TZID=America/Chicago:20231025T110000
DTSTAMP:20260422T064733
CREATED:20231010T184945Z
LAST-MODIFIED:20231010T184945Z
UID:18754-1698229800-1698231600@muskogeechamber.org
SUMMARY:Ribbon Cutting: Integrity Staffing
DESCRIPTION:Join us for a ribbon cutting to celebrate with Integrity Staffing\, their 5 year anniversary! They are a full service staffing firm specializing in industrial\, office services and professional placements. They take pride in developing long-term partnerships built on trust\, honesty\, integrity\, and compassion. \nWhen: Wednesday\, October 25\, 2023 at 10:30 AM – 11:00 AM \nWhere: 3405 Chandler Road\, Muskogee 74403 \nThe ribbon cutting is open to the public\, so invite your co-workers and friends to come celebrate with this local team. \n 
URL:https://muskogeechamber.org/calendar/ribbon-cutting-integrity-staffing/
END:VEVENT
BEGIN:VEVENT
DTSTART;TZID=America/Chicago:20231023T080000
DTEND;TZID=America/Chicago:20231023T080000
DTSTAMP:20260422T064733
CREATED:20210121T211113Z
LAST-MODIFIED:20210121T211113Z
UID:16689-1698048000-1698048000@muskogeechamber.org
SUMMARY:Monday Morning Memo
DESCRIPTION:Newsletter sent out each out to all members each Monday Morning. This email informs our members on what is going on at the chamber\, info from the SBA\, state chamber\, and local news. \n\nAre you a member and are not receiving this email? Email info@muskogeechamber.org
URL:https://muskogeechamber.org/calendar/monday-morning-memo-2023-10-23/
END:VEVENT
BEGIN:VEVENT
DTSTART;TZID=America/Chicago:20231016T080000
DTEND;TZID=America/Chicago:20231016T080000
DTSTAMP:20260422T064733
CREATED:20210121T211113Z
LAST-MODIFIED:20210121T211113Z
UID:16688-1697443200-1697443200@muskogeechamber.org
SUMMARY:Monday Morning Memo
DESCRIPTION:Newsletter sent out each out to all members each Monday Morning. This email informs our members on what is going on at the chamber\, info from the SBA\, state chamber\, and local news. \n\nAre you a member and are not receiving this email? Email info@muskogeechamber.org
URL:https://muskogeechamber.org/calendar/monday-morning-memo-2023-10-16/
END:VEVENT
BEGIN:VEVENT
DTSTART;TZID=America/Chicago:20231012T153000
DTEND;TZID=America/Chicago:20231012T163000
DTSTAMP:20260422T064733
CREATED:20170926T201112Z
LAST-MODIFIED:20230905T182616Z
UID:16623-1697124600-1697128200@muskogeechamber.org
SUMMARY:Agri-Business Committee Meeting
DESCRIPTION:Promotes and supports local businesses associated with all components of agriculture\, including the Farmer’s Market. The work of this Chamber Member committee supports the annual Muskogee Regional Junior Livestock Show and hosts an Ag Appreciation Dinner each fall. They meet the second Thursday of every month at 3:30 p.m. in the Georgia Pacific Board Room at the Muskogee Chamber of Commerce.
URL:https://muskogeechamber.org/calendar/argi-business-committee-meeting-2023-10-12/
LOCATION:Greater Muskogee Area Chamber of Commerce\, 310 W. Broadway\, Muskogee\, OK\, 74401\, United States
CATEGORIES:Open Meeting
END:VEVENT
BEGIN:VEVENT
DTSTART;TZID=America/Chicago:20231009T113000
DTEND;TZID=America/Chicago:20231009T113000
DTSTAMP:20260422T064733
CREATED:20230919T175656Z
LAST-MODIFIED:20230920T142321Z
UID:18710-1696851000-1696851000@muskogeechamber.org
SUMMARY:State of Education 2023
DESCRIPTION:  \n 
URL:https://muskogeechamber.org/calendar/state-of-education-2023/
LOCATION:Oklahoma Music Hall of Fame\, 401 S. 3rd\, Muskogee\, 74401
END:VEVENT
BEGIN:VEVENT
DTSTART;TZID=America/Chicago:20231009T080000
DTEND;TZID=America/Chicago:20231009T080000
DTSTAMP:20260422T064733
CREATED:20210121T211113Z
LAST-MODIFIED:20210121T211113Z
UID:16687-1696838400-1696838400@muskogeechamber.org
SUMMARY:Monday Morning Memo
DESCRIPTION:Newsletter sent out each out to all members each Monday Morning. This email informs our members on what is going on at the chamber\, info from the SBA\, state chamber\, and local news. \n\nAre you a member and are not receiving this email? Email info@muskogeechamber.org
URL:https://muskogeechamber.org/calendar/monday-morning-memo-2023-10-09/
END:VEVENT
BEGIN:VEVENT
DTSTART;TZID=America/Chicago:20231005T083000
DTEND;TZID=America/Chicago:20231005T170000
DTSTAMP:20260422T064733
CREATED:20230606T203809Z
LAST-MODIFIED:20230606T204349Z
UID:18447-1696494600-1696525200@muskogeechamber.org
SUMMARY:Leadership Muskogee 2.0
DESCRIPTION:
URL:https://muskogeechamber.org/calendar/leadership-muskogee-2-0-3/
LOCATION:Greater Muskogee Area Chamber of Commerce\, 310 W. Broadway\, Muskogee\, OK\, 74401\, United States
CATEGORIES:Registered Events
END:VEVENT
BEGIN:VEVENT
DTSTART;TZID=America/Chicago:20231004T120000
DTEND;TZID=America/Chicago:20231004T130000
DTSTAMP:20260422T064733
CREATED:20170926T201601Z
LAST-MODIFIED:20170926T201601Z
UID:16613-1696420800-1696424400@muskogeechamber.org
SUMMARY:Ambassador's Committee Meeting
DESCRIPTION:This committee works to ensure our members have the full support of the Chamber and are provided opportunities such as ribbon cuttings\, open house\, and ground breaking events. The committee meets the first Wednesday of every month over lunch at a Chamber Member restaurant. \n  \nLocation changes month to month\, contact Amanda Johnson for this months host.
URL:https://muskogeechamber.org/calendar/7884-2023-10-04/
CATEGORIES:Open Meeting
END:VEVENT
BEGIN:VEVENT
DTSTART;TZID=America/Chicago:20231002T080000
DTEND;TZID=America/Chicago:20231002T080000
DTSTAMP:20260422T064733
CREATED:20210121T211113Z
LAST-MODIFIED:20210121T211113Z
UID:16686-1696233600-1696233600@muskogeechamber.org
SUMMARY:Monday Morning Memo
DESCRIPTION:Newsletter sent out each out to all members each Monday Morning. This email informs our members on what is going on at the chamber\, info from the SBA\, state chamber\, and local news. \n\nAre you a member and are not receiving this email? Email info@muskogeechamber.org
URL:https://muskogeechamber.org/calendar/monday-morning-memo-2023-10-02/
END:VEVENT
BEGIN:VEVENT
DTSTART;TZID=America/Chicago:20230929T130000
DTEND;TZID=America/Chicago:20230929T133000
DTSTAMP:20260422T064733
CREATED:20230905T190445Z
LAST-MODIFIED:20230905T190445Z
UID:18686-1695992400-1695994200@muskogeechamber.org
SUMMARY:Ribbon Cutting: Wood Co. Outdoor Living
DESCRIPTION:Please join us to welcome and celebrate this new business joining our community. Wood Co. Outdoor Living provides outdoor landscaping services as well as has a year round nursery offering plants to keep your outdoor spaces looking fresh and happy all year round. \nWhen: Friday\, September 29\, 2023 at 1:00 PM \nWhere: Wood Co Outdoor Living – 2300 N. Main Street\, Muskogee 74401 \nThe ribbon cutting is open to the public\, so invite your co-workers and friends to come celebrate and meet this new business. \n  \n 
URL:https://muskogeechamber.org/calendar/ribbon-cutting-wood-co-outdoor-living/
END:VEVENT
BEGIN:VEVENT
DTSTART;TZID=America/Chicago:20230928T100000
DTEND;TZID=America/Chicago:20230928T100500
DTSTAMP:20260422T064733
CREATED:20210121T210245Z
LAST-MODIFIED:20210121T210245Z
UID:16653-1695895200-1695895500@muskogeechamber.org
SUMMARY:Chamber Member Happenings Email
DESCRIPTION:Weekly newsletter that goes out every Thursday! Check events being put on my local chamber members and the chamber. Want to get the email\, or include an event you are putting on? Contact info@muskogeechamber.org
URL:https://muskogeechamber.org/calendar/chamber-member-happenings-email-2023-09-28/
END:VEVENT
BEGIN:VEVENT
DTSTART;TZID=America/Chicago:20230927T120000
DTEND;TZID=America/Chicago:20230927T133000
DTSTAMP:20260422T064733
CREATED:20230807T162329Z
LAST-MODIFIED:20230807T162329Z
UID:18641-1695816000-1695821400@muskogeechamber.org
SUMMARY:Chamber University - Cyber Security
DESCRIPTION:Cybersecurity: Do I Really Need All That Crap For My Business?\nWhile there is an abundance of information recommending what business owners and leaders should pursue for cybersecurity protection\, very few presenters cut through all the IT malarky and quickly get to common sense essentials. This one-hour educational session taught by a seasoned 25-year IT professional who also knows how to run a successful small business\, will offer a common-sense approach for protecting your data and business operations.  Learn how to extend your budgeted IT dollars even farther. \nSpeaker:  Brian Largent\, Lead Engineer and CEO\, The ArcLight Group\nBrian Largent has more than 25 years of progressive corporate IT experience. He has worked at every IT technical level from Help Desk\,  IT Manager\, Infrastructure Architect to System Engineer.  Brian founded The ArcLight Group in 2008\, a comprehensive IT Managed Service Provider\, and serves as the company’s CEO. He has broad understanding of today’s business needs for practical IT support. Brian has a passion for teaching about IT and going the extra mile to deliver quality education. \nTarget Audience:  business owners\, decision makers\, organizational leaders \n  \nLunch is provided for this session\, so please reserve your seat today! Registration will close on September 25\, 2023.
URL:https://muskogeechamber.org/calendar/chamber-university-cyber-security/
END:VEVENT
BEGIN:VEVENT
DTSTART;TZID=America/Chicago:20230927T100000
DTEND;TZID=America/Chicago:20230927T110000
DTSTAMP:20260422T064733
CREATED:20230913T141013Z
LAST-MODIFIED:20230913T141013Z
UID:18692-1695808800-1695812400@muskogeechamber.org
SUMMARY:Ribbon Cutting: Jack C. Montgomery VA Medical Center
DESCRIPTION:Please join the administration and staff of the Jack C. Montgomery VA Medical Center and the Chamber for their 100th Anniversary Celebration! This outdoor event will include dignitaries and special guest speaker. The ribbon cutting will follow directly after the conclusion of the formal program. \nWhen: September 27\, 2023 from 10:00 AM – 11:00 AM \nWhere: 1011 Honor Heights Drive\, Muskogee 74401 \nParking: These is limited parking around the hospital. It is highly recommended that guests park at Hatbox (640 S. 40th Street\, Muskogee 74401) and use the complimentary shuttle to the hospital. Please do not use the parking lot closest to the hospital entrance and NO PARKING on the side of Honor Heights Drive\, as it is an encumbrance to emergency vehicles.
URL:https://muskogeechamber.org/calendar/ribbon-cutting-jack-c-montgomery-va-medical-center/
END:VEVENT
BEGIN:VEVENT
DTSTART;TZID=America/Chicago:20230926T150000
DTEND;TZID=America/Chicago:20230926T153000
DTSTAMP:20260422T064733
CREATED:20230913T162122Z
LAST-MODIFIED:20230913T162122Z
UID:18694-1695740400-1695742200@muskogeechamber.org
SUMMARY:Ribbon Cutting: American Legion Post 15
DESCRIPTION:Join us for a ribbon cutting to welcome the American Legion Post 15 to our chamber! The American Legion is the nation’s largest veteran service organization. Our local post offers opportunities for veterans to serve and connect with other veterans\, as well as serve in their community. American Legion Post 15 re-opened their doors earlier this year\, following the pandemic and a building restoration project. A few of the popular program they offer that are open to the public include Monday and Thursday Night BINGO\, as well as Community Dances\, which are on select weekends. \nWhen: Tuesday\, September 26\, 2023 from 3:00 PM – 3:30 PM \nWhere: American Legion Post 15 – 4021 W. Broadway\, Muskogee 74401 \nThe ribbon cutting is open to the public\, so invite your co-workers and friends to come and meet the veterans at American Legion Post 15!
URL:https://muskogeechamber.org/calendar/ribbon-cutting-american-legion-post-15/
END:VEVENT
BEGIN:VEVENT
DTSTART;TZID=America/Chicago:20230925T080000
DTEND;TZID=America/Chicago:20230925T080000
DTSTAMP:20260422T064733
CREATED:20210121T211113Z
LAST-MODIFIED:20210121T211113Z
UID:16685-1695628800-1695628800@muskogeechamber.org
SUMMARY:Monday Morning Memo
DESCRIPTION:Newsletter sent out each out to all members each Monday Morning. This email informs our members on what is going on at the chamber\, info from the SBA\, state chamber\, and local news. \n\nAre you a member and are not receiving this email? Email info@muskogeechamber.org
URL:https://muskogeechamber.org/calendar/monday-morning-memo-2023-09-25/
END:VEVENT
END:VCALENDAR