BEGIN:VCALENDAR
VERSION:2.0
PRODID:-//Muskogee Chamber of Commerce - ECPv6.11.1//NONSGML v1.0//EN
CALSCALE:GREGORIAN
METHOD:PUBLISH
X-ORIGINAL-URL:https://muskogeechamber.org
X-WR-CALDESC:Events for Muskogee Chamber of Commerce
REFRESH-INTERVAL;VALUE=DURATION:PT1H
X-Robots-Tag:noindex
X-PUBLISHED-TTL:PT1H
BEGIN:VTIMEZONE
TZID:America/Chicago
BEGIN:DAYLIGHT
TZOFFSETFROM:-0600
TZOFFSETTO:-0500
TZNAME:CDT
DTSTART:20240310T080000
END:DAYLIGHT
BEGIN:STANDARD
TZOFFSETFROM:-0500
TZOFFSETTO:-0600
TZNAME:CST
DTSTART:20241103T070000
END:STANDARD
END:VTIMEZONE
BEGIN:VEVENT
DTSTART;TZID=America/Chicago:20240507T110000
DTEND;TZID=America/Chicago:20240507T113000
DTSTAMP:20260422T065157
CREATED:20240425T175815Z
LAST-MODIFIED:20240425T175815Z
UID:19640-1715079600-1715081400@muskogeechamber.org
SUMMARY:Ribbon Cutting: Home Helpers
DESCRIPTION:Please join us for a ribbon cutting to welcome Home Helpers of Muskogee to the Chamber of Commerce! Home Helpers home care offers personal care and companionship care. They assist with basic activities of daily living like hygiene\, cooking\, mobility\, errands and housekeeping. \nWhen: Tuesday\, May 7th at 11:00 AM \nWhere: 113 S. Edmond Place
URL:https://muskogeechamber.org/calendar/ribbon-cutting-home-helpers/
END:VEVENT
BEGIN:VEVENT
DTSTART;TZID=America/Chicago:20240509T173000
DTEND;TZID=America/Chicago:20240509T180000
DTSTAMP:20260422T065157
CREATED:20240425T175900Z
LAST-MODIFIED:20240425T180246Z
UID:19641-1715275800-1715277600@muskogeechamber.org
SUMMARY:Ribbon Cutting: Parks & Recreation
DESCRIPTION:Please join us for a ribbon cutting event to celebrate the opening of the new Katy Trail in Muskogee. The Parks & Recreation Department has invited us to be part of their ceremony event. The trail is located at the east end (dead-end) of the access road on the north side of Shawnee of Shawnee bypass. The access road is by Bomgaars and Oklahoma Farm Bureau. \n  \nWhen: Thursday\, May 9th at 5:30 pm
URL:https://muskogeechamber.org/calendar/ribbon-cutting-parks-recreation/
END:VEVENT
BEGIN:VEVENT
DTSTART;TZID=America/Chicago:20240510T100000
DTEND;TZID=America/Chicago:20240510T103000
DTSTAMP:20260422T065157
CREATED:20240502T201842Z
LAST-MODIFIED:20240502T201842Z
UID:19659-1715335200-1715337000@muskogeechamber.org
SUMMARY:Ribbon Cutting: The Market on Broadway
DESCRIPTION:Please join us in welcoming The Market on Broadway to the Muskogee Chamber of Commerce with a Ribbon Cutting! The Market on Broadway is a new store that specializes in vintage antiques\, home décor and more. \n  \nWhen: Friday\, May 10th at 10:00 am  \nWhere: 1116 W. Broadway St.
URL:https://muskogeechamber.org/calendar/ribbon-cutting-the-market-on-broadway/
END:VEVENT
BEGIN:VEVENT
DTSTART;TZID=America/Chicago:20240513T100000
DTEND;TZID=America/Chicago:20240513T153000
DTSTAMP:20260422T065157
CREATED:20240123T205822Z
LAST-MODIFIED:20240404T203120Z
UID:19079-1715594400-1715614200@muskogeechamber.org
SUMMARY:Chamber Golf Classic
DESCRIPTION:
URL:https://muskogeechamber.org/calendar/chamber-golf-classic-2/
LOCATION:Muskogee Golf Club\, 2400 N Country Club Rd\, Muskogee\, OK\, 74403\, United States
END:VEVENT
BEGIN:VEVENT
DTSTART;TZID=America/Chicago:20240516T120000
DTEND;TZID=America/Chicago:20240516T123000
DTSTAMP:20260422T065157
CREATED:20240425T180030Z
LAST-MODIFIED:20240425T180149Z
UID:19642-1715860800-1715862600@muskogeechamber.org
SUMMARY:Ribbon Cutting: Rotary Club of Muskogee Centennial Clock Rededication
DESCRIPTION:Please join us for a ribbon cutting to celebrate Rotary Club of Muskogee in the rededication of the Centennial Clock! This will take place in front of the Muskogee Civic Center. Rotary has invited us to stay for lunch if you would like and speaker Ted Hine will be telling the history of the clock. \n  \nWhen: Thursday\, May 16th at 12:00 pm \nWhere: In front of the Muskogee Civic Center on Okmulgee side
URL:https://muskogeechamber.org/calendar/ribbon-cutting-rotary-club-of-muskogee-centennial-clock-rededication/
END:VEVENT
BEGIN:VEVENT
DTSTART;TZID=America/Chicago:20240517T073000
DTEND;TZID=America/Chicago:20240517T090000
DTSTAMP:20260422T065157
CREATED:20240425T181312Z
LAST-MODIFIED:20240425T181312Z
UID:19643-1715931000-1715936400@muskogeechamber.org
SUMMARY:Paul Revere Breakfast
DESCRIPTION:Friday\, May 17th \n7:30 AM \nMuskogee Chamber of Commerce \nGeorgia-Pacific Boardroom at Muskogee Chamber of Commerce \n310 W Broadway\, Muskogee\, Oklahoma \nPresented by:
URL:https://muskogeechamber.org/calendar/paul-revere-breakfast-3/
END:VEVENT
BEGIN:VEVENT
DTSTART;TZID=America/Chicago:20240610T110000
DTEND;TZID=America/Chicago:20240610T113000
DTSTAMP:20260422T065157
CREATED:20240530T171309Z
LAST-MODIFIED:20240530T171324Z
UID:19752-1718017200-1718019000@muskogeechamber.org
SUMMARY:Ribbon Cutting: Pristine Concrete and Excavation
DESCRIPTION:Help us welcome Pristine Concrete and Excavation to the Muskogee Chamber of Commerce! Pristine is a brand new business in the Muskogee area that specializes in concrete\, excavation\, French drainage\, retaining walls and land management. The Ribbon Cutting will be at the Chamber office and we hope to see you there! \n  \nWhen: Monday\, June 10th at 11:00 AM \nWhere: Muskogee Chamber of Commerce
URL:https://muskogeechamber.org/calendar/ribbon-cutting-pristine-concrete-and-excavation/
END:VEVENT
BEGIN:VEVENT
DTSTART;TZID=America/Chicago:20240612T110000
DTEND;TZID=America/Chicago:20240612T113000
DTSTAMP:20260422T065157
CREATED:20240530T171457Z
LAST-MODIFIED:20240530T171457Z
UID:19753-1718190000-1718191800@muskogeechamber.org
SUMMARY:Ribbon Cutting: Parachute
DESCRIPTION:Please join us in welcoming Parachute to the Muskogee Chamber of Commerce! Parachute is a brand new plasma donation center. Hope to see you there! \n  \nWhen: Wednesday\, June 12th at 11:00 AM \nWhere: 219 S 32nd St
URL:https://muskogeechamber.org/calendar/ribbon-cutting-parachute/
END:VEVENT
BEGIN:VEVENT
DTSTART;TZID=America/Chicago:20240613T140000
DTEND;TZID=America/Chicago:20240613T143000
DTSTAMP:20260422T065157
CREATED:20240530T171616Z
LAST-MODIFIED:20240530T171616Z
UID:19754-1718287200-1718289000@muskogeechamber.org
SUMMARY:Ribbon Cutting: TAYLOR'd Advanced Aesthetics
DESCRIPTION:We are welcoming TAYLOR’d Advanced Aesthetics to the Chamber of Commerce with a Ribbon Cutting! TAYLOR’d is a local medical spa that has an advanced team of skincare specialists that works in anti-aging\, acne\, and much more. Help us celebrate this local business! \nUPDATE: \nWhen: Thursday\, June 13th at 2:00 PM \nWhere: TAYLOR’d Advanced Aesthetics\, 2203 Chandler Road
URL:https://muskogeechamber.org/calendar/ribbon-cutting-taylord-advanced-aesthetics/
END:VEVENT
BEGIN:VEVENT
DTSTART;TZID=America/Chicago:20240620T100000
DTEND;TZID=America/Chicago:20240620T103000
DTSTAMP:20260422T065157
CREATED:20240530T171717Z
LAST-MODIFIED:20240530T171717Z
UID:19755-1718877600-1718879400@muskogeechamber.org
SUMMARY:Ribbon Cutting: Morning Song
DESCRIPTION:Please join us for a Ribbon Cutting to celebrate Morning Song Orchard & Nursery for joining the Chamber! Morning Song is a retail store with close to 200 botanicals\, powders\, and spices as well as over 40 herbal teas and accessories. Hope to see you there! \n  \nWhen: Thursday\, June 20th at 10:00 AM \nWhere: 1805 N York St. Suite D1
URL:https://muskogeechamber.org/calendar/ribbon-cutting-morning-song/
END:VEVENT
BEGIN:VEVENT
DTSTART;TZID=America/Chicago:20240621T110000
DTEND;TZID=America/Chicago:20240621T113000
DTSTAMP:20260422T065157
CREATED:20240612T203455Z
LAST-MODIFIED:20240612T203718Z
UID:19774-1718967600-1718969400@muskogeechamber.org
SUMMARY:Ribbon Cutting: Outlaw Motor Speedway
DESCRIPTION:Please join us in welcoming Outlaw Motor Speedway to the Muskogee Chamber of Commerce! Outlaw Motor Speedway is a racing speedway with a 3/8 mile dirt track that has weekly racing from May to October every year. We hope to see you there! \n  \nWhen: Friday\, June 21st at 11:00 AM \nWhere: 8100 Wainwright Rd in Oktaha
URL:https://muskogeechamber.org/calendar/ribbon-cutting-outlaw-motor-speedway/
END:VEVENT
BEGIN:VEVENT
DTSTART;TZID=America/Chicago:20240625T110000
DTEND;TZID=America/Chicago:20240625T113000
DTSTAMP:20260422T065157
CREATED:20240612T203654Z
LAST-MODIFIED:20240612T203654Z
UID:19775-1719313200-1719315000@muskogeechamber.org
SUMMARY:Ribbon Cutting: The Structure Guardian
DESCRIPTION:Help us welcome The Structure Guardian to the Muskogee Chamber of Commerce! The Structure Guardian is owned and operated by Ray Roberts who specializes in home\, mold\, phase\, and draw inspections. We will have the ribbon cutting at our office on \nTuesday\, June 25th at 11:00 AM. \nChamber Office: 310 W Broadway \nHope to see you there!
URL:https://muskogeechamber.org/calendar/ribbon-cutting-the-structure-guardian/
END:VEVENT
BEGIN:VEVENT
DTSTART;TZID=America/Chicago:20240626T073000
DTEND;TZID=America/Chicago:20240626T090000
DTSTAMP:20260422T065157
CREATED:20240528T184724Z
LAST-MODIFIED:20240528T184740Z
UID:19749-1719387000-1719392400@muskogeechamber.org
SUMMARY:Common Grounds & Ribbon Cutting at TTCU
DESCRIPTION:
URL:https://muskogeechamber.org/calendar/common-grounds-ribbon-cutting-at-ttcu/
LOCATION:TTCU Federal Credit Union\, 3801 W Okmulgee St\, Muskogee\, OK\, 74401\, United States
END:VEVENT
BEGIN:VEVENT
DTSTART;TZID=America/Chicago:20240710T120000
DTEND;TZID=America/Chicago:20240710T123000
DTSTAMP:20260422T065157
CREATED:20240612T203822Z
LAST-MODIFIED:20240612T203822Z
UID:19776-1720612800-1720614600@muskogeechamber.org
SUMMARY:Ribbon Cutting: QuikTrip
DESCRIPTION:We are excited to share that we will be having a ribbon cutting and grand opening for the newly built Quiktrip in Muskogee! The new location is on the corner of York Street and the Shawnee Bypass. Quiktrip will also have the store team there to let us sample food and products. Hope to see you there! \n  \nWhen: Wednesday\, July 10th at 12:00 PM \nWhere: Quiktrip on the corner of York St\, & Shawnee Bypass
URL:https://muskogeechamber.org/calendar/ribbon-cutting-quiktrip/
END:VEVENT
BEGIN:VEVENT
DTSTART;VALUE=DATE:20240715
DTEND;VALUE=DATE:20240719
DTSTAMP:20260422T065157
CREATED:20210517T190551Z
LAST-MODIFIED:20240708T152846Z
UID:15856-1721001600-1721347199@muskogeechamber.org
SUMMARY:2024 Women's Leadership Conference "Week of Women"
DESCRIPTION:July 15th – 18th\, 2024\nMeet Our Speakers\nMonday via Zoom at 10am:\nChinh Doan\, KOTV – News On 6\nJoin us for an inspiring session with Chinh Doan\, a former refugee and foster child who defied all odds to become a prominent journalist and storyteller. Chinh’s journey from Vietnam to the United States\, overcoming language barriers\, and achieving her dreams will inspire you to work hard and be kind. \nAbout Chinh Doan: \n\nBorn in Vietnam\, fluent in Vietnamese\nFirst in her family to graduate college\nAnchor and reporter at KOTV – News On 6\, Tulsa’s #1 TV station\nRecipient of several journalism awards\nPassionate about telling stories of children\, veterans\, refugees\, and immigrants\n\nConnect with Chinh: \n\nEmail: chinh.doan@griffin.news\nSocial Media: Facebook\, Twitter\, Instagram\, TikTok\n\nTuesday via Zoom at 10am:\nDr. Lacey Nevel\, Free Spirit Chiropractic\nDr. Lacey Nevel\, a wellness visionary and co-owner of Free Spirit Chiropractic\, will share insights on holistic wellness and her journey in chiropractic care. Discover how she’s impacting lives through love\, connection\, and authenticity. \nAbout Dr. Lacey Nevel: \n\nCo-owner of Free Spirit Chiropractic\nFounder of The Start Up Lab for Chiropractors\nFounder of Free Spirit Social for Chiropractors\nPodcast host of “Free Your Frequency”\n\nConnect with Dr. Lacey: \n\nInstagram: @freespiritchiro\, @freespiritchiropractic\nPodcast: Free Your Frequency on Spotify\n\nWednesday via Zoom at 10am:\nCarleeta Nelson\, Arbonne International\nJoin us as Carleeta Nelson shares her incredible journey from poverty to success as a top leader in Arbonne International. Learn how she balanced a full-time nursing career while building a thriving business and empowering others along the way. \nAbout Carleeta Nelson: \n\nGraduated as valedictorian from Gracemont High School\nBachelor’s of Science in Nursing from UCO\nTop leader at Arbonne International\nBalances entrepreneurship with community involvement\n\nThursday In-Person Luncheon:\nAlba Weaver\, OG&E\nJoin us for an insightful luncheon with Alba Weaver\, the Director of Community Affairs and Economic Development at OG&E. Discover her impactful work in economic development\, community engagement\, and leadership in shaping the future of Oklahoma. \nAbout Alba Weaver: \n\nDirector at OG&E\, focusing on economic development\nRecognized leader in community and economic development\nActive contributor to various boards and organizations
URL:https://muskogeechamber.org/calendar/2023-womens-leadership-conference-week-of-women/
END:VEVENT
BEGIN:VEVENT
DTSTART;TZID=America/Chicago:20240904T113000
DTEND;TZID=America/Chicago:20240904T123000
DTSTAMP:20260422T065157
CREATED:20240903T192828Z
LAST-MODIFIED:20240903T192828Z
UID:20012-1725449400-1725453000@muskogeechamber.org
SUMMARY:Ambassador's Committee Meeting
DESCRIPTION:
URL:https://muskogeechamber.org/calendar/ambassadors-committee-meeting/
LOCATION:Runt’s BBQ\, 3003 W Okmulgee\, Muskogee\, OK\, 74401\, United States
END:VEVENT
BEGIN:VEVENT
DTSTART;TZID=America/Chicago:20240910T100000
DTEND;TZID=America/Chicago:20240910T103000
DTSTAMP:20260422T065157
CREATED:20240903T193124Z
LAST-MODIFIED:20240904T193712Z
UID:20014-1725962400-1725964200@muskogeechamber.org
SUMMARY:Ribbon Cutting: 2N1 Cleaning
DESCRIPTION:Join us to welcome 2N1 Cleaning to the Chamber of Commerce with a ribbon cutting! 2N1 Cleaning specializes in commercial\, office\, and new construction cleaning services in the Muskogee and surrounding areas. Hope to see you there!
URL:https://muskogeechamber.org/calendar/ribbon-cutting-2n1-cleaning/
LOCATION:Greater Muskogee Area Chamber of Commerce\, 310 W. Broadway\, Muskogee\, OK\, 74401\, United States
END:VEVENT
BEGIN:VEVENT
DTSTART;TZID=America/Chicago:20240911T100000
DTEND;TZID=America/Chicago:20240911T103000
DTSTAMP:20260422T065157
CREATED:20240903T193259Z
LAST-MODIFIED:20240904T193811Z
UID:20015-1726048800-1726050600@muskogeechamber.org
SUMMARY:Ribbon Cutting: Security Finance
DESCRIPTION:Join us to celebrate our new member\, Security Finance with a Ribbon Cutting! They offer personal installment loans and year round tax services. We hope to see you there!
URL:https://muskogeechamber.org/calendar/ribbon-cutting-security-finance/
LOCATION:Security Finance\, 407 N York St\, Ste B\, Muskogee\, OK\, 74403\, United States
END:VEVENT
BEGIN:VEVENT
DTSTART;TZID=America/Chicago:20240913T100000
DTEND;TZID=America/Chicago:20240913T103000
DTSTAMP:20260422T065157
CREATED:20240903T193514Z
LAST-MODIFIED:20240904T194008Z
UID:20017-1726221600-1726223400@muskogeechamber.org
SUMMARY:Ribbon Cutting: Muskogee Therapy SPOT
DESCRIPTION:Join us in welcoming Muskogee Therapy SPOT to the Chamber of Commerce with a Ribbon Cutting! Muskogee Therapy SPOT specializes in pediatric speech and occupational therapy. Hope to see you there!
URL:https://muskogeechamber.org/calendar/ribbon-cutting-muskogee-therapy-spot/
LOCATION:Muskogee Therapy SPOT\, 505 N York St\, Muskogee\, OK\, 74403\, United States
END:VEVENT
BEGIN:VEVENT
DTSTART;TZID=America/Chicago:20240916T100000
DTEND;TZID=America/Chicago:20240916T103000
DTSTAMP:20260422T065157
CREATED:20240903T193700Z
LAST-MODIFIED:20240903T193700Z
UID:20019-1726480800-1726482600@muskogeechamber.org
SUMMARY:Ribbon Cutting: AAA Insurance - Kevin Williams Bailey
DESCRIPTION:Join us on September 16th as we welcome our new member\, AAA Insurance – Kevin Williams Bailey to the Chamber of Commerce with a Ribbon Cutting! Kevin Williams Bailey with AAA Insurance has just recently moved into their new building and specializes in home\, auto\, life\, and business insurance.
URL:https://muskogeechamber.org/calendar/ribbon-cutting-aaa-insurance-kevin-williams-bailey/
LOCATION:AAA Insurance\, 3305 Chandler Rd.\, Muskogee\, OK\, 74403\, United States
END:VEVENT
BEGIN:VEVENT
DTSTART;TZID=America/Chicago:20240917T160000
DTEND;TZID=America/Chicago:20240917T163000
DTSTAMP:20260422T065157
CREATED:20240903T193827Z
LAST-MODIFIED:20240903T193827Z
UID:20021-1726588800-1726590600@muskogeechamber.org
SUMMARY:Ribbon Cutting: Sugar Llamas
DESCRIPTION:Join us to welcome Sugar Llamas to the Chamber with a ribbon cutting! Sugar Llamas features delicious mini donuts\, coffee\, and dessert bar so you will not want to miss this one!
URL:https://muskogeechamber.org/calendar/ribbon-cutting-sugar-llamas/
LOCATION:Sugar Llamas\, 813 W Shawnee Bypass\, Muskogee\, OK\, 74401\, United States
END:VEVENT
BEGIN:VEVENT
DTSTART;TZID=America/Chicago:20240918T100000
DTEND;TZID=America/Chicago:20240918T103000
DTSTAMP:20260422T065157
CREATED:20240905T160759Z
LAST-MODIFIED:20240905T160858Z
UID:20042-1726653600-1726655400@muskogeechamber.org
SUMMARY:Ribbon Cutting: CPR Coming To You
DESCRIPTION:Please join us for a ribbon cutting to welcome CPR Coming To You LLC to the Muskogee Chamber of Commerce! Ms. Glenetta Mayes owns and operates CPR Coming to You and has over 22 years of experience as a nurse and home health aide. She has operated as a mobile service for around 8 years\, offering CPR classes to many establishments. She has recently opened an office on Boston St and joined the Chamber. We hope to see you there\, and help us support this business!
URL:https://muskogeechamber.org/calendar/ribbon-cutting-cpr-coming-to-you/
LOCATION:CPR Coming To You\, 508 Boston St\, Muskogee\, OK\, 74401\, United States
END:VEVENT
BEGIN:VEVENT
DTSTART;TZID=America/Chicago:20240919T163000
DTEND;TZID=America/Chicago:20240919T183000
DTSTAMP:20260422T065157
CREATED:20240903T194159Z
LAST-MODIFIED:20240903T205438Z
UID:20023-1726763400-1726770600@muskogeechamber.org
SUMMARY:Ribbon Cutting & Business After Hours: Muskogee Brewing Company
DESCRIPTION:Excited to share that we will be having a ribbon cutting AND Business After Hours at the Muskogee Brewing Company! Muskogee Brewing has been acquired by new owners and is now a full-service bar\, and has renovated its interior. We will do the ribbon cutting at 4:45 and we hope to see you there!
URL:https://muskogeechamber.org/calendar/ribbon-cutting-business-after-hours-muskogee-brewing-company/
LOCATION:Muskogee Brewing Company\, 121 S 2nd\, Muskogee\, OK\, 74401\, United States
END:VEVENT
BEGIN:VEVENT
DTSTART;TZID=America/Chicago:20240923T163000
DTEND;TZID=America/Chicago:20240923T170000
DTSTAMP:20260422T065157
CREATED:20240918T192400Z
LAST-MODIFIED:20240918T192400Z
UID:20072-1727109000-1727110800@muskogeechamber.org
SUMMARY:Ribbon Cutting: Muskogee Swim & Fitness
DESCRIPTION:Join us for a ribbon cutting to celebrate the grand reopening of Muskogee Swim and Fitness! We hope to see you there!
URL:https://muskogeechamber.org/calendar/ribbon-cutting-muskogee-swim-fitness/
LOCATION:Muskogee Swim and Fitness\, 566 N 6th St\, Muskogee\, OK\, 74401\, United States
END:VEVENT
BEGIN:VEVENT
DTSTART;TZID=America/Chicago:20240924T130000
DTEND;TZID=America/Chicago:20240924T133000
DTSTAMP:20260422T065157
CREATED:20240918T192812Z
LAST-MODIFIED:20240918T192812Z
UID:20074-1727182800-1727184600@muskogeechamber.org
SUMMARY:Ribbon Cutting: Cornerstone Home Lending - The Lynne Wallis Team
DESCRIPTION:Join us for a ribbon cutting to celebrate new member\, Cornerstone Home Lending – The Lynne Wallis Team to the Chamber! Cornerstone Home Lending and Lynne Wallis are dedicated to bringing people the dream of homeownership a simple\, easy\, and happy experience offering mortgage in-house loan services. Lynne said they will also have chicken salad croissants\, and sugar cookies for our ribbon cutting! Hope to see you all there!
URL:https://muskogeechamber.org/calendar/ribbon-cutting-cornerstone-home-lending-the-lynne-wallis-team/
LOCATION:Cornerstone Home Lending\, 230 W Okmulgee St. Suite C\, Muskogee\, OK\, 74401\, United States
END:VEVENT
BEGIN:VEVENT
DTSTART;TZID=America/Chicago:20241003T173000
DTEND;TZID=America/Chicago:20241003T200000
DTSTAMP:20260422T065157
CREATED:20240806T181626Z
LAST-MODIFIED:20240930T193632Z
UID:19953-1727976600-1727985600@muskogeechamber.org
SUMMARY:Third & Bourbon
DESCRIPTION:Doors open at 5:30pm\, Tasting begins at 6:00 pm
URL:https://muskogeechamber.org/calendar/third-bourbon/
END:VEVENT
BEGIN:VEVENT
DTSTART;TZID=America/Chicago:20241004T073000
DTEND;TZID=America/Chicago:20241004T080000
DTSTAMP:20260422T065157
CREATED:20240919T184005Z
LAST-MODIFIED:20240919T184005Z
UID:20082-1728027000-1728028800@muskogeechamber.org
SUMMARY:Ribbon Cutting: Burlington
DESCRIPTION:We hope you will join us to welcome and celebrate the grand opening of Burlington to Muskogee\, and the Chamber of Commerce! Burlington is a retail clothing store that offers apparel\, shoes\, accessories\, home goods\, and beauty products at low prices. Burlington will also be donating a check to a Muskogee elementary school that morning so we hope you will come out and help us celebrate!
URL:https://muskogeechamber.org/calendar/ribbon-cutting-burlington/
LOCATION:Burlington\, 900 W Shawnee St\, Muskogee\, OK\, 74401\, United States
END:VEVENT
BEGIN:VEVENT
DTSTART;TZID=America/Chicago:20241008T100000
DTEND;TZID=America/Chicago:20241008T103000
DTSTAMP:20260422T065157
CREATED:20240918T193038Z
LAST-MODIFIED:20240918T193038Z
UID:20076-1728381600-1728383400@muskogeechamber.org
SUMMARY:Ribbon Cutting: Anchor Financial Services
DESCRIPTION:Join us to welcome Anchor Financial Services of Muskogee with a Ribbon Cutting! Anchor Finance has been in business for over 40 years with 7 locations in the surrounding areas and they have just recently moved to Muskogee. They offer financial services to help people get the money they need!
URL:https://muskogeechamber.org/calendar/ribbon-cutting-anchor-financial-services/
LOCATION:Anchor Financial Services\, 516 N Main St\, Muskogee\, OK\, 74401\, United States
END:VEVENT
BEGIN:VEVENT
DTSTART;TZID=America/Chicago:20241010T080000
DTEND;TZID=America/Chicago:20241010T170000
DTSTAMP:20260422T065157
CREATED:20240903T205636Z
LAST-MODIFIED:20240903T211433Z
UID:20025-1728547200-1728579600@muskogeechamber.org
SUMMARY:Leadership Muskogee Class 31 - Orientation Day 1
DESCRIPTION:Presented By:
URL:https://muskogeechamber.org/calendar/leadership-muskogee-class-31-orientation-day-1/
LOCATION:Green Country Beh. Health Med Services Building\, 110 W Martin Luther King St.\, Muskogee\, OK\, 74401\, United States
END:VEVENT
BEGIN:VEVENT
DTSTART;TZID=America/Chicago:20241011T080000
DTEND;TZID=America/Chicago:20241011T170000
DTSTAMP:20260422T065157
CREATED:20240903T205716Z
LAST-MODIFIED:20240903T211345Z
UID:20027-1728633600-1728666000@muskogeechamber.org
SUMMARY:Leadership Muskogee Class 31 - Orientation Day 2
DESCRIPTION:Presented By: \n \n  \nSession Sponsored By:
URL:https://muskogeechamber.org/calendar/leadership-muskogee-class-31-orientation-day-2/
LOCATION:Green Country Beh. Health Med Services Building\, 110 W Martin Luther King St.\, Muskogee\, OK\, 74401\, United States
END:VEVENT
END:VCALENDAR